BEGIN:VCALENDAR
VERSION:2.0
PRODID:-//Odoo//Event//EN
CALSCALE:GREGORIAN
METHOD:PUBLISH
BEGIN:VEVENT
UID:12237@ewomennetwork.com
DTSTAMP:20260421T041939Z
DTSTART:20260331T180000Z
DTEND:20260331T220000Z
SUMMARY:2026 Women's Success Summit - SHIFT: The CEO Advantage
DESCRIPTION:Event Name: 2026 Women's Success Summit - SHIFT: The CEO Advantage
LOCATION:Lodge on the Desert
END:VEVENT
END:VCALENDAR
