BEGIN:VCALENDAR
VERSION:2.0
PRODID:-//Odoo//Event//EN
CALSCALE:GREGORIAN
METHOD:PUBLISH
BEGIN:VEVENT
UID:11943@ewomennetwork.com
DTSTAMP:20260420T115544Z
DTSTART:20260825T160000Z
DTEND:20260825T190000Z
SUMMARY:Accelerated In-Person Networking
DESCRIPTION:Event Name: Accelerated In-Person Networking
LOCATION:Midland Hills Country Club
END:VEVENT
END:VCALENDAR
