BEGIN:VCALENDAR
VERSION:2.0
PRODID:-//Odoo//Event//EN
CALSCALE:GREGORIAN
METHOD:PUBLISH
BEGIN:VEVENT
UID:11940@ewomennetwork.com
DTSTAMP:20260419T155232Z
DTSTART:20260526T160000Z
DTEND:20260526T190000Z
SUMMARY:Navigate Your Next Level: A CEO Strategy for Restoring Momentum and Growth
DESCRIPTION:Event Name: Navigate Your Next Level: A CEO Strategy for Restoring Momentum and Growth
LOCATION:Midland Hills Country Club
END:VEVENT
END:VCALENDAR
